BEGIN:VCALENDAR
VERSION:2.0
PRODID:-//https://eventi.ischia.it///NONSGML kigkonsult.se iCalcreator 2.10.15//
METHOD:PUBLISH
BEGIN:VEVENT
UID:20260423T205315UTC-8311BKPSIJ@https://eventi.ischia.it/
DTSTAMP:20260423T205315Z
DESCRIPTION:Sessione aperta di tiro con l'arco degustazioni delle specialit
 à del Telese Grafico open day! https://eventi.ischia.it/calendario/evento/
 249439-aperitiro-al-telese
DTSTART:20260122T150000Z
DTEND:20260122T170000Z
LOCATION:Istituto Professionale di stato 'Vincenzo Telese' (Via Fondo Bosso
 \, 1\, 80077 Ischia NA\, Italia)
SUMMARY:Aperitiro al Telese
URL:https://eventi.ischia.it/calendario/evento/249439-aperitiro-al-telese
END:VEVENT
END:VCALENDAR
