BEGIN:VCALENDAR
VERSION:2.0
PRODID:-//https://eventi.ischia.it///NONSGML kigkonsult.se iCalcreator 2.10.15//
METHOD:PUBLISH
BEGIN:VEVENT
UID:20260422T044246UTC-7460ucgeUu@https://eventi.ischia.it/
DTSTAMP:20260422T044246Z
DESCRIPTION:Il Comune di Forio informa la cittadinanza che sta per partire 
 un’importante iniziativa dedicata alle donne del territorio.Corso gratuito
  di Judo e Autodifesa FemminileL’ASD Olympic Judo Forio organizza un corso
  gratuito di judo/autodifesa dedicato alle donne\, con l’obiettivo di prom
 uovere sicurezza personale\, consapevolezza e benessere fisico.-Inizio: Sa
 bato 28 febbraioOrario: dalle ore 19:00 alle ore 20:00Luogo: Palazzetto de
 llo Sport di ForioDurata: fino a fine maggioPosti disponibili: massimo 20 
 partecipanti-Le iscrizioni potranno essere effettuate direttamente presso 
 il Palazzetto dello Sport.Per maggiori informazioni è possibile consultare
  la pagina Facebook ASD Olympic Judo Forio.Un’importante occasione di cres
 cita personale e sportiva.Vi aspettiamo! https://eventi.ischia.it/calendar
 io/evento/249605-corso-judo-autodifesa-per-donne
DTSTART:20260425T170000Z
DTEND:20260425T180000Z
LOCATION:PALAZZETTO DELLO SPORT FORIO - ISOLA D'ISCHIA - LOCALITA' CASALE (
 Via Casale\, 29\, 80075 Forio NA\, Italy)
SUMMARY:CORSO JUDO/AUTODIFESA PER DONNE 
URL:https://eventi.ischia.it/calendario/evento/249605-corso-judo-autodifesa
 -per-donne
END:VEVENT
BEGIN:VEVENT
UID:20260422T044246UTC-7461vOnhNk@https://eventi.ischia.it/
DTSTAMP:20260422T044246Z
DESCRIPTION:Il Comune di Forio informa la cittadinanza che sta per partire 
 un’importante iniziativa dedicata alle donne del territorio.Corso gratuito
  di Judo e Autodifesa FemminileL’ASD Olympic Judo Forio organizza un corso
  gratuito di judo/autodifesa dedicato alle donne\, con l’obiettivo di prom
 uovere sicurezza personale\, consapevolezza e benessere fisico.-Inizio: Sa
 bato 28 febbraioOrario: dalle ore 19:00 alle ore 20:00Luogo: Palazzetto de
 llo Sport di ForioDurata: fino a fine maggioPosti disponibili: massimo 20 
 partecipanti-Le iscrizioni potranno essere effettuate direttamente presso 
 il Palazzetto dello Sport.Per maggiori informazioni è possibile consultare
  la pagina Facebook ASD Olympic Judo Forio.Un’importante occasione di cres
 cita personale e sportiva.Vi aspettiamo! https://eventi.ischia.it/calendar
 io/evento/249606-corso-judo-autodifesa-per-donne
DTSTART:20260502T170000Z
DTEND:20260502T180000Z
LOCATION:PALAZZETTO DELLO SPORT FORIO - ISOLA D'ISCHIA - LOCALITA' CASALE (
 Via Casale\, 29\, 80075 Forio NA\, Italy)
SUMMARY:CORSO JUDO/AUTODIFESA PER DONNE 
URL:https://eventi.ischia.it/calendario/evento/249606-corso-judo-autodifesa
 -per-donne
END:VEVENT
BEGIN:VEVENT
UID:20260422T044246UTC-7463oiMDWX@https://eventi.ischia.it/
DTSTAMP:20260422T044246Z
DESCRIPTION:Duo L. Gorokhov - M.R. Guenter - Violoncello e pianoforteMusich
 e di Gorokhov\, Walton\, Shostakovich\n&nbsp\;\nNorme di prenotazione e co
 mportamento\n€ 20\,00 - Intero€ 15\,00 - Ragazzi da 12 a 18 anni\; Residen
 ti dei Comuni dell'Isola d'IschiaIngresso Gratuito - Disabili con attestat
 o di invalidità oltre 51% (ingressi in base alla disponibilità dei posti)A
 TTENZIONE:\nIl concerto si svolge nella sala al chiuso e dura circa 60 min
 .Prenotazione nominale obbligatoria presso la biglietteria dei Giardini La
  Mortella\,nei giorni di Martedì\, Giovedì\, Sabato e Domenica dalle 10 al
 le 18 o al telefono 081-986220.Si raccomanda di presentarsi in tempo utile
  (almeno 40 minuti prima dell'inizio del concerto).E’ obbligatorio il risp
 etto delle norme Anti Covid19 in vigore (D.L. 24/03/2022):E' consigliato i
 ndossare la mascherina FFP2 per tutta la durata del concerto.Il registro d
 elle presenze verrà mantenuto per 14 giorni come richiesto dalla legge.La 
 Direzione si riserva la facoltà di modificare il programma in caso di nece
 ssità tecniche o artistiche. https://eventi.ischia.it/calendario/evento/24
 9753-incontri-musicali-stagione-primavera-estate-duo-l-gorokhov-m-r-guente
 r
DTSTART:20260425T150000Z
DTEND:20260425T163000Z
LOCATION:Giardini La Mortella (Via Francesco Calise\, 39 - 80075 Forio NA\,
  Italia)
SUMMARY:Incontri musicali\, stagione primavera - estate: Duo L. Gorokhov - 
 M.R. Guenter
URL:https://eventi.ischia.it/calendario/evento/249753-incontri-musicali-sta
 gione-primavera-estate-duo-l-gorokhov-m-r-guenter
END:VEVENT
BEGIN:VEVENT
UID:20260422T044246UTC-7465c9A82U@https://eventi.ischia.it/
DTSTAMP:20260422T044246Z
DESCRIPTION:Duo L. Gorokhov - M.R. Guenter - Violoncello e pianoforteMusich
 e di Gorokhov\, Walton\, Shostakovich\n&nbsp\;\nNorme di prenotazione e co
 mportamento\n€ 20\,00 - Intero€ 15\,00 - Ragazzi da 12 a 18 anni\; Residen
 ti dei Comuni dell'Isola d'IschiaIngresso Gratuito - Disabili con attestat
 o di invalidità oltre 51% (ingressi in base alla disponibilità dei posti)A
 TTENZIONE:\nIl concerto si svolge nella sala al chiuso e dura circa 60 min
 .Prenotazione nominale obbligatoria presso la biglietteria dei Giardini La
  Mortella\,nei giorni di Martedì\, Giovedì\, Sabato e Domenica dalle 10 al
 le 18 o al telefono 081-986220.Si raccomanda di presentarsi in tempo utile
  (almeno 40 minuti prima dell'inizio del concerto).E’ obbligatorio il risp
 etto delle norme Anti Covid19 in vigore (D.L. 24/03/2022):E' consigliato i
 ndossare la mascherina FFP2 per tutta la durata del concerto.Il registro d
 elle presenze verrà mantenuto per 14 giorni come richiesto dalla legge.La 
 Direzione si riserva la facoltà di modificare il programma in caso di nece
 ssità tecniche o artistiche. https://eventi.ischia.it/calendario/evento/24
 9754-incontri-musicali-stagione-primavera-estate-duo-l-gorokhov-m-r-guente
 r
DTSTART:20260426T150000Z
DTEND:20260426T163000Z
LOCATION:Giardini La Mortella (Via Francesco Calise\, 39 - 80075 Forio NA\,
  Italia)
SUMMARY:Incontri musicali\, stagione primavera - estate: Duo L. Gorokhov - 
 M.R. Guenter
URL:https://eventi.ischia.it/calendario/evento/249754-incontri-musicali-sta
 gione-primavera-estate-duo-l-gorokhov-m-r-guenter
END:VEVENT
BEGIN:VEVENT
UID:20260422T044246UTC-7467eL5gZ2@https://eventi.ischia.it/
DTSTAMP:20260422T044246Z
DESCRIPTION:Duo L. Gorokhov - M.R. Guenter - Violoncello e pianoforteMusich
 e di Gorokhov\, Walton\, Shostakovich\n&nbsp\;\nNorme di prenotazione e co
 mportamento\n€ 20\,00 - Intero€ 15\,00 - Ragazzi da 12 a 18 anni\; Residen
 ti dei Comuni dell'Isola d'IschiaIngresso Gratuito - Disabili con attestat
 o di invalidità oltre 51% (ingressi in base alla disponibilità dei posti)A
 TTENZIONE:\nIl concerto si svolge nella sala al chiuso e dura circa 60 min
 .Prenotazione nominale obbligatoria presso la biglietteria dei Giardini La
  Mortella\,nei giorni di Martedì\, Giovedì\, Sabato e Domenica dalle 10 al
 le 18 o al telefono 081-986220.Si raccomanda di presentarsi in tempo utile
  (almeno 40 minuti prima dell'inizio del concerto).E’ obbligatorio il risp
 etto delle norme Anti Covid19 in vigore (D.L. 24/03/2022):E' consigliato i
 ndossare la mascherina FFP2 per tutta la durata del concerto.Il registro d
 elle presenze verrà mantenuto per 14 giorni come richiesto dalla legge.La 
 Direzione si riserva la facoltà di modificare il programma in caso di nece
 ssità tecniche o artistiche. https://eventi.ischia.it/calendario/evento/24
 9755-incontri-musicali-stagione-primavera-estate-duo-l-gorokhov-m-r-guente
 r
DTSTART:20260502T150000Z
DTEND:20260502T163000Z
LOCATION:Giardini La Mortella (Via Francesco Calise\, 39 - 80075 Forio NA\,
  Italia)
SUMMARY:Incontri musicali\, stagione primavera - estate: Duo L. Gorokhov - 
 M.R. Guenter
URL:https://eventi.ischia.it/calendario/evento/249755-incontri-musicali-sta
 gione-primavera-estate-duo-l-gorokhov-m-r-guenter
END:VEVENT
BEGIN:VEVENT
UID:20260422T044246UTC-74689bXuRd@https://eventi.ischia.it/
DTSTAMP:20260422T044246Z
DESCRIPTION:Duo L. Gorokhov - M.R. Guenter - Violoncello e pianoforteMusich
 e di Gorokhov\, Walton\, Shostakovich\n&nbsp\;\nNorme di prenotazione e co
 mportamento\n€ 20\,00 - Intero€ 15\,00 - Ragazzi da 12 a 18 anni\; Residen
 ti dei Comuni dell'Isola d'IschiaIngresso Gratuito - Disabili con attestat
 o di invalidità oltre 51% (ingressi in base alla disponibilità dei posti)A
 TTENZIONE:\nIl concerto si svolge nella sala al chiuso e dura circa 60 min
 .Prenotazione nominale obbligatoria presso la biglietteria dei Giardini La
  Mortella\,nei giorni di Martedì\, Giovedì\, Sabato e Domenica dalle 10 al
 le 18 o al telefono 081-986220.Si raccomanda di presentarsi in tempo utile
  (almeno 40 minuti prima dell'inizio del concerto).E’ obbligatorio il risp
 etto delle norme Anti Covid19 in vigore (D.L. 24/03/2022):E' consigliato i
 ndossare la mascherina FFP2 per tutta la durata del concerto.Il registro d
 elle presenze verrà mantenuto per 14 giorni come richiesto dalla legge.La 
 Direzione si riserva la facoltà di modificare il programma in caso di nece
 ssità tecniche o artistiche. https://eventi.ischia.it/calendario/evento/24
 9756-incontri-musicali-stagione-primavera-estate-duo-l-gorokhov-m-r-guente
 r
DTSTART:20260503T150000Z
DTEND:20260503T163000Z
LOCATION:Giardini La Mortella (Via Francesco Calise\, 39 - 80075 Forio NA\,
  Italia)
SUMMARY:Incontri musicali\, stagione primavera - estate: Duo L. Gorokhov - 
 M.R. Guenter
URL:https://eventi.ischia.it/calendario/evento/249756-incontri-musicali-sta
 gione-primavera-estate-duo-l-gorokhov-m-r-guenter
END:VEVENT
BEGIN:VEVENT
UID:20260422T044246UTC-7470wtDHiT@https://eventi.ischia.it/
DTSTAMP:20260422T044246Z
DESCRIPTION:PURA FANTASIA: VEDERE OLTRE LE FORMEDI IACONO DOMENICODAL 24 AL
  27 APRILE 202610:30-13:00 15:30-20:0024 APRILE ORE 19:00 VERNISSAGEPRESSO
  LA TORRE DEL MOLINO(EX CARCERE BORBONICO)SPIAGGIA DELLA MANDRA - ISCHIA h
 ttps://eventi.ischia.it/calendario/evento/249860-vernissage-pura-fantasia-
 vedere-oltre-le-forme
DTSTART:20260424T083000Z
DTEND:20260424T180000Z
LOCATION:Torre del Molino (Spiaggia dei Pescatori\, 80077 Ischia NA\, Itali
 a)
SUMMARY:Vernissage: PURA FANTASIA VEDERE OLTRE LE FORME
URL:https://eventi.ischia.it/calendario/evento/249860-vernissage-pura-fanta
 sia-vedere-oltre-le-forme
END:VEVENT
BEGIN:VEVENT
UID:20260422T044246UTC-7471jRbuOU@https://eventi.ischia.it/
DTSTAMP:20260422T044246Z
DESCRIPTION:PURA FANTASIA: VEDERE OLTRE LE FORMEDI IACONO DOMENICODAL 24 AL
  27 APRILE 202610:30-13:00 15:30-20:0024 APRILE ORE 19:00 VERNISSAGEPRESSO
  LA TORRE DEL MOLINO(EX CARCERE BORBONICO)SPIAGGIA DELLA MANDRA - ISCHIA h
 ttps://eventi.ischia.it/calendario/evento/249861-vernissage-pura-fantasia-
 vedere-oltre-le-forme
DTSTART:20260425T083000Z
DTEND:20260425T180000Z
LOCATION:Torre del Molino (Spiaggia dei Pescatori\, 80077 Ischia NA\, Itali
 a)
SUMMARY:Vernissage: PURA FANTASIA VEDERE OLTRE LE FORME
URL:https://eventi.ischia.it/calendario/evento/249861-vernissage-pura-fanta
 sia-vedere-oltre-le-forme
END:VEVENT
BEGIN:VEVENT
UID:20260422T044246UTC-7472UbcGrV@https://eventi.ischia.it/
DTSTAMP:20260422T044246Z
DESCRIPTION:PURA FANTASIA: VEDERE OLTRE LE FORMEDI IACONO DOMENICODAL 24 AL
  27 APRILE 202610:30-13:00 15:30-20:0024 APRILE ORE 19:00 VERNISSAGEPRESSO
  LA TORRE DEL MOLINO(EX CARCERE BORBONICO)SPIAGGIA DELLA MANDRA - ISCHIA h
 ttps://eventi.ischia.it/calendario/evento/249862-vernissage-pura-fantasia-
 vedere-oltre-le-forme
DTSTART:20260426T083000Z
DTEND:20260426T180000Z
LOCATION:Torre del Molino (Spiaggia dei Pescatori\, 80077 Ischia NA\, Itali
 a)
SUMMARY:Vernissage: PURA FANTASIA VEDERE OLTRE LE FORME
URL:https://eventi.ischia.it/calendario/evento/249862-vernissage-pura-fanta
 sia-vedere-oltre-le-forme
END:VEVENT
BEGIN:VEVENT
UID:20260422T044246UTC-7473X9F3Jp@https://eventi.ischia.it/
DTSTAMP:20260422T044246Z
DESCRIPTION:PURA FANTASIA: VEDERE OLTRE LE FORMEDI IACONO DOMENICODAL 24 AL
  27 APRILE 202610:30-13:00 15:30-20:0024 APRILE ORE 19:00 VERNISSAGEPRESSO
  LA TORRE DEL MOLINO(EX CARCERE BORBONICO)SPIAGGIA DELLA MANDRA - ISCHIA h
 ttps://eventi.ischia.it/calendario/evento/249863-vernissage-pura-fantasia-
 vedere-oltre-le-forme
DTSTART:20260427T083000Z
DTEND:20260427T180000Z
LOCATION:Torre del Molino (Spiaggia dei Pescatori\, 80077 Ischia NA\, Itali
 a)
SUMMARY:Vernissage: PURA FANTASIA VEDERE OLTRE LE FORME
URL:https://eventi.ischia.it/calendario/evento/249863-vernissage-pura-fanta
 sia-vedere-oltre-le-forme
END:VEVENT
BEGIN:VEVENT
UID:20260422T044246UTC-7473voAInI@https://eventi.ischia.it/
DTSTAMP:20260422T044246Z
DESCRIPTION:\nORARI SPETTACOLI: 18:30 - 20:30 Sala 2Titolo originale: The S
 uper Mario Galaxy MovieUscita: Giappone\, USAGenere: AnimazioneRegia di: A
 aron Horvath\, Michael JelenicDurata: 96 minutiRatings: film per tuttiCast
 :&nbsp\;Chris Pratt\, Anya Taylor-Joy\, Jack Black\, Charlie Day\, Keegan 
 Michael Key\, Kevin Michael Richardson\nTRAMASuper Mario Galaxy - Il Film\
 , diretto da Aaron Horvath e Michael Jelenic\, è il seguito di Super Mario
  Bros. del 2023\, e riporta sullo schermo Mario (voce originale Chris Prat
 t)\, Luigi (voce originale Charlie Day)\, Peach (voce originale Anya Taylo
 r-Joy)\, Toad (voce originale Keegan-Michael Key)\, Bowser (voce originale
  Jack Black) e gli altri personaggi intramontabili dell’universo Nintendo.
 Dopo aver sconfitto Bowser e salvato Brooklyn\, Mario si ritrova ad affron
 tare una nuova e pericolosa alleanza: quella tra Wario e Bowser Jr.\, deci
 si a portare avanti i piani di dominio del mondo iniziati dal loro predece
 ssore. Quando la minaccia si estende oltre i confini della Terra\, Mario\,
  Luigi\, Peach e Toad vengono catapultati nello spazio profondo\, dove pia
 neti bizzarri\, creature insolite e mondi tutti da scoprire li attendono. 
 A guidarli nella loro missione cosmica c’è Rosalina (voce originale Brie L
 arson)\, insieme al suo imponente Osservatorio Cometa\, che offrirà ai pro
 tagonisti un nuovo punto di vista sull’universo e sulle forze oscure che l
 o minacciano.Con l’aiuto di Yoshi\, il gruppo affronterà Bowser Jr. e gli 
 intrighi della nuova alleanza malvagia in un’epica avventura galattica che
  si collega direttamente agli eventi del primo film. Tra battaglie interst
 ellari\, scenari spettacolari e il ritmo brillante che contraddistingue la
  saga\, Mario e i suoi amici dovranno unire le forze per proteggere la gal
 assia e sventare l’ennesimo tentativo di portare il caos nel loro mondo.\n
 \n https://eventi.ischia.it/calendario/evento/249882-super-mario-galaxy-il
 -film-2-spettacoli-sala-2
DTSTART:20260422T163000Z
DTEND:20260422T210000Z
LOCATION:Cinema Excelsior (Via Francesco Sogliuzzo\, 18\, 80077 Ischia NA\,
  Italia)
SUMMARY:Super Mario Galaxy - Il Film (2 spettacoli) Sala 2
URL:https://eventi.ischia.it/calendario/evento/249882-super-mario-galaxy-il
 -film-2-spettacoli-sala-2
END:VEVENT
BEGIN:VEVENT
UID:20260422T044246UTC-747675uess@https://eventi.ischia.it/
DTSTAMP:20260422T044246Z
DESCRIPTION:\nORARI SPETTACOLI: 21:00 - Sala 1Titolo originale: Lee Cronin'
 s The MummyUscita: USAGenere: HorrorRegia di:&nbsp\;Lee CroninDurata: 134 
 minutiRatings: consigliato pubblico adultoCast:&nbsp\;Laia Costa\, Jack Re
 ynor\, May Calamawy\, Natalie Grace\, Veronica Falcón\, Emily Mitchell\, H
 ayat Kamille\, Shylo Molina\nTRAMALee Cronin - La Mummia\, il film diretto
  da Lee Cronin\, racconta la storia di una coppia di genitori (Jack Reynor
  e Laia Costa). La loro vita cambia tragicamente dopo la misteriosa scompa
 rsa della giovane figlia\, Katie (Natalie Grace)\, svanita un giorno nel d
 eserto senza lasciare alcuna traccia.Gli anni passano\, ma il dolore e il 
 senso di perdita continuano a segnare profondamente la famiglia\, incapace
  di trovare una ragione. Otto anni dopo\, quando ogni speranza sembra orma
 i svanita\, accade l’impensabile. Ricevono una telefonata che comunica lor
 o il ritrovamento della bambina. Il suo ritorno\, inizialmente vissuto com
 e un miracolo\, riaccende emozioni contrastanti. Ma quello che dovrebbe es
 sere un ricongiungimento carico di gioia si trasforma ben presto in qualco
 sa di oscuro e molto disturbante.Katie\, infatti\, appare molto diversa. O
 ltre al suo aspetto inquietante\, anche i suoi comportamenti e i suoi sgua
 rdi celano qualcosa di inspiegabile e carico di terrore. Il suo corpo infa
 tti\, è stato ritrovato in un antico sarcofago\, avvolto in fasce come una
  mummia. Katie sembra appartenere al mondo dei morti.I genitori\, combattu
 ti tra amore e paura\, iniziano a sospettare che la figlia tornata a casa 
 possa non essere mai più la stessa di un tempo\, dando così inizio a un in
 cubo a occhi aperti che metterà alla prova ogni loro certezza…\n\n https:/
 /eventi.ischia.it/calendario/evento/249887-lee-cronin-la-mummia-1-spettaco
 lo-sala-1
DTSTART:20260422T190000Z
DTEND:20260422T210000Z
LOCATION:Cinema Excelsior (Via Francesco Sogliuzzo\, 18\, 80077 Ischia NA\,
  Italia)
SUMMARY:Lee Cronin - La Mummia (1 spettacolo) Sala 1
URL:https://eventi.ischia.it/calendario/evento/249887-lee-cronin-la-mummia-
 1-spettacolo-sala-1
END:VEVENT
BEGIN:VEVENT
UID:20260422T044246UTC-74782kV9eg@https://eventi.ischia.it/
DTSTAMP:20260422T044246Z
DESCRIPTION:\nORARI SPETTACOLI: 19:00 - Sala 1Titolo originale: La salitaUs
 cita: ItaliaGenere: DrammaticoRegia di: Massimiliano GalloDurata: 90 minut
 iRatings: kids +13Cast:&nbsp\;Roberta Caronia\, Maurizio Casagrande\, Fran
 cesco Cossu\, Ludovica Ferraro\, Massimiliano Gallo\, Gianfelice Imparato\
 , Mariano Rigillo\, Antonio Milo\nTRAMALa Salita\, il film diretto da Mass
 imiliano Gallo\, si svolge nel 1983 e segue un capitolo poco conosciuto de
 lla vita di Eduardo De Filippo (Mariano Rigillo)\, impegnato in un’intensa
  attività di recupero e formazione dei giovani detenuti del carcere minori
 le di Nisida attraverso il teatro.In questo contesto storico e umano si in
 trecciano le storie di ragazzi e ragazze che vivono ai margini. Il raccont
 o si concentra su Emanuele\, giovane detenuto\, e su Beatrice\, ragazza tr
 asferita da Pozzuoli dopo la chiusura del carcere femminile. Il loro incon
 tro all’interno di uno spazio dominato da rigidi confini fisici e sociali 
 innesca una rete di relazioni che coinvolge Giovanni\, educatore del carce
 re\, Maria\, un’altra detenuta che partecipa al percorso teatrale\, e il D
 irettore dell’istituto\, testimone attento degli sviluppi di questa esperi
 enza straordinaria.Accanto a questi personaggi\, emerge la figura di Eduar
 do De Filippo. Nominato Senatore a vita\, entra a Nisida con un obiettivo 
 concreto: portare il teatro all’interno del carcere minorile. Contribuisce
  alla ristrutturazione del teatro dell’istituto\, avvia una scuola di scen
 otecnica e una di recitazione e coinvolge gli attori della sua compagnia n
 ella messa in scena del primo spettacolo mai realizzato in un carcere mino
 rile italiano.Il teatro è raccontato come strumento di trasformazione real
 e\, capace di creare connessioni tra istituzione e creatività\, disciplina
  e libertà\, offrendo ai detenuti una possibilità di riscatto e di immagin
 azione del futuro.\n\n https://eventi.ischia.it/calendario/evento/249892-l
 a-salita-1-spettacolo-sala-1
DTSTART:20260422T170000Z
DTEND:20260422T183000Z
LOCATION:Cinema Excelsior (Via Francesco Sogliuzzo\, 18\, 80077 Ischia NA\,
  Italia)
SUMMARY:La salita (1 spettacolo) Sala 1
URL:https://eventi.ischia.it/calendario/evento/249892-la-salita-1-spettacol
 o-sala-1
END:VEVENT
BEGIN:VEVENT
UID:20260422T044246UTC-7480zm6v8N@https://eventi.ischia.it/
DTSTAMP:20260422T044246Z
DESCRIPTION:La storia vera di una madre e della battaglia di suo figlioVero
 nica MatareseLA FORZA DI UNA MAMMA&nbsp\;27 Aprile 2026Ore 17:00Sala Consi
 liare del Comune di ForioVi aspettiamo! https://eventi.ischia.it/calendari
 o/evento/249896-presentazione-del-libro-la-forza-di-una-mamma
DTSTART:20260427T150000Z
DTEND:20260427T170000Z
LOCATION:Sala conferenze Porto di Forio (Via Cristoforo Colombo\, 1311\, 80
 075 Forio NA\, Italia)
SUMMARY:Presentazione del Libro LA FORZA DI UNA MAMMA
URL:https://eventi.ischia.it/calendario/evento/249896-presentazione-del-lib
 ro-la-forza-di-una-mamma
END:VEVENT
END:VCALENDAR
