BEGIN:VCALENDAR
VERSION:2.0
PRODID:-//https://eventi.ischia.it///NONSGML kigkonsult.se iCalcreator 2.10.15//
METHOD:PUBLISH
BEGIN:VEVENT
UID:20260421T120436UTC-6954ajx0UI@https://eventi.ischia.it/
DTSTAMP:20260421T120436Z
DESCRIPTION:Natale a Ischia: Mario Biondi https://eventi.ischia.it/en/calen
 dar/event/35837-natale-a-ischia-mario-biondi
DTSTART:20241228T200000Z
DTEND:20241228T220000Z
LOCATION:Piazza degli Eroi (Piazza Degli Eroi\, 80077 Ischia NA\, Italia)
SUMMARY:Natale a Ischia: Mario Biondi
URL:https://eventi.ischia.it/en/calendar/event/35837-natale-a-ischia-mario-
 biondi
END:VEVENT
END:VCALENDAR
