BEGIN:VCALENDAR
VERSION:2.0
PRODID:-//https://eventi.ischia.it///NONSGML kigkonsult.se iCalcreator 2.10.15//
METHOD:PUBLISH
BEGIN:VEVENT
UID:20260421T061125UTC-0273vevJUS@https://eventi.ischia.it/
DTSTAMP:20260421T061125Z
DESCRIPTION:Natale a Ischia: Stelle in strada https://eventi.ischia.it/en/e
 vents/event/35838-natale-a-ischia-stelle-in-strada
DTSTART:20241229T200000Z
DTEND:20241229T220000Z
LOCATION:Via Roma (Via Roma\, 80077 Ischia NA\, Italia)
SUMMARY:Natale a Ischia: Stelle in strada
URL:https://eventi.ischia.it/en/events/event/35838-natale-a-ischia-stelle-i
 n-strada
END:VEVENT
END:VCALENDAR
