BEGIN:VCALENDAR
VERSION:2.0
PRODID:-//https://eventi.ischia.it///NONSGML kigkonsult.se iCalcreator 2.10.15//
METHOD:PUBLISH
BEGIN:VEVENT
UID:20260420T025032UTC-0061e8uNXB@https://eventi.ischia.it/
DTSTAMP:20260420T025032Z
DESCRIPTION:Every Sunday\n\n\nFrom 6:00 PM to 9:00 PM – Corso Francesco Reg
 ine\n\n\nFrom 6:00 PM to 12:00 AM – Via Marina\n\n\nExperience the unique 
 atmosphere of Forio\, with live music\, local flavors\, and plenty of fun 
 together! https://eventi.ischia.it/en/events/intrattenimento/cinema/event/
 248944-forio-sunday
DTSTART:20251116T170000Z
DTEND:20251116T200000Z
LOCATION:Comune di Forio (Piazza Municipio\, 1\, 80075 Forio NA\, Italia)
SUMMARY:Forio Sunday
URL:https://eventi.ischia.it/en/events/intrattenimento/cinema/event/248944-
 forio-sunday
END:VEVENT
END:VCALENDAR
