BEGIN:VCALENDAR
VERSION:2.0
PRODID:-//https://eventi.ischia.it///NONSGML kigkonsult.se iCalcreator 2.10.15//
METHOD:PUBLISH
BEGIN:VEVENT
UID:20260420T072318UTC-4428OZE9HB@https://eventi.ischia.it/
DTSTAMP:20260420T072318Z
DESCRIPTION:con l'autore Prof. Nicola Cleopazzodocente di Storia dell'arte 
 moderna e contemporanea presso l'Accademia di Belle Arti di Bari30 maggio 
 2025ore 18:00Sala Giovanni Paolo II Museo Diocesano di IschiaInterverranno
 :Don Emanuel MonteDott. Francesco Mattera Dott.ssa Lucia AnnicelliDott.ssa
  Ylenia Patalano Dott.ssa Serena PilatoCLARA BCentro Studi Isola d'Ischiai
 n collaborazione con Associazione di Promozione Sociale dal 1944 https://e
 venti.ischia.it/en/past-events/event/79269-presentazione-libro-ippolito-bo
 rghese
DTSTART:20250530T160000Z
DTEND:20250530T180000Z
LOCATION:Museo Diocesano di Ischia (Via Seminario\, 20\, 80077 Ischia NA\, 
 Italia)
SUMMARY:Presentazione libro: Ippolito Borghese
URL:https://eventi.ischia.it/en/past-events/event/79269-presentazione-libro
 -ippolito-borghese
END:VEVENT
END:VCALENDAR
