BEGIN:VCALENDAR
VERSION:2.0
PRODID:-//https://eventi.ischia.it///NONSGML kigkonsult.se iCalcreator 2.10.15//
METHOD:PUBLISH
BEGIN:VEVENT
UID:20260419T215204UTC-9304dr3SfE@https://eventi.ischia.it/
DTSTAMP:20260419T215204Z
DESCRIPTION:SFILATA DELLE MASCHERINE E BABY DANCECON LA SCUOLA LA MAGIA DEL
 LA DANZA DI MARY SPORTIELLO GONFIABILI\, ZUCCHERO FILATO E POP CORN CON TE
 RRY ANIMAZIONE TEATRO DEI BURATTINI E TANTO DIVERTIMENTO https://eventi.is
 chia.it/eventi-ad-ischia/evento/249536-aspettando-carnevale
DTSTART:20260216T140000Z
DTEND:20260216T170000Z
LOCATION:Piazza San Leonardo ( Via Cavaliere Leonardo Impagliazzo\, 53\, 80
 075 Forio NA)
SUMMARY:ASPETTANDO CARNEVALE
URL:https://eventi.ischia.it/eventi-ad-ischia/evento/249536-aspettando-carn
 evale
END:VEVENT
END:VCALENDAR
