BEGIN:VCALENDAR
VERSION:2.0
PRODID:-//https://eventi.ischia.it///NONSGML kigkonsult.se iCalcreator 2.10.15//
METHOD:PUBLISH
BEGIN:VEVENT
UID:20260422T060729UTC-6479Cfa6av@https://eventi.ischia.it/
DTSTAMP:20260422T060729Z
DESCRIPTION:Introduce e coordina l' evento Ciro Cenatiempo https://eventi.i
 schia.it/eventi-passati/evento/30045-libro-molly-una-storia-vera
DTSTART:20240524T163000Z
DTEND:20240524T180000Z
LOCATION:Torre di Testaccio (Via S. Giorgio\, 29\, 80070 Barano d'Ischia NA
 \, Italia)
SUMMARY:Libro: Molly una storia vera
URL:https://eventi.ischia.it/eventi-passati/evento/30045-libro-molly-una-st
 oria-vera
END:VEVENT
END:VCALENDAR
