BEGIN:VCALENDAR
VERSION:2.0
PRODID:-//https://eventi.ischia.it///NONSGML kigkonsult.se iCalcreator 2.10.15//
METHOD:PUBLISH
BEGIN:VEVENT
UID:20260422T004600UTC-3002KOOUPr@https://eventi.ischia.it/
DTSTAMP:20260422T004600Z
DESCRIPTION:EVENTO ANNULLATO https://eventi.ischia.it/eventi-passati/evento
 /30817-la-pinetella-annullato
DTSTART:20240720T180000Z
DTEND:20240720T215900Z
LOCATION:Ischia Adventure Park (Pineta di Fiaiano\, Via Montagna\, 73\, 800
 77 Ischia NA\, Italia)
SUMMARY:La Pinetella: ANNULLATO
URL:https://eventi.ischia.it/eventi-passati/evento/30817-la-pinetella-annul
 lato
END:VEVENT
END:VCALENDAR
