BEGIN:VCALENDAR
VERSION:2.0
PRODID:-//https://eventi.ischia.it///NONSGML kigkonsult.se iCalcreator 2.10.15//
METHOD:PUBLISH
BEGIN:VEVENT
UID:20260423T053104UTC-6871Nf9UFO@https://eventi.ischia.it/
DTSTAMP:20260423T053104Z
DESCRIPTION:21 luglio a Barano evento organizzato dal Bar la dea Bendata co
 l patrocinio del comune di Barano  https://eventi.ischia.it/eventi-passati
 /evento/31443-karaoke-night
DTSTART:20240721T191500Z
DTEND:20240721T213000Z
LOCATION:Piedimonte di Barano d'Ischia (Via Provinciale Duca degli Abruzzi\
 , 80070 Barano D'ischia NA\, Italy)
SUMMARY:Karaoke night
URL:https://eventi.ischia.it/eventi-passati/evento/31443-karaoke-night
END:VEVENT
END:VCALENDAR
