BEGIN:VCALENDAR
VERSION:2.0
PRODID:-//https://eventi.ischia.it///NONSGML kigkonsult.se iCalcreator 2.10.15//
METHOD:PUBLISH
BEGIN:VEVENT
UID:20260420T140942UTC-4587xuwwbC@https://eventi.ischia.it/
DTSTAMP:20260420T140942Z
DESCRIPTION:Processione in barca dal piazzale delle Alghe https://eventi.is
 chia.it/eventi-passati/evento/31474-processione-in-barca-dal-piazzale-dell
 e-alghe
DTSTART:20240725T170000Z
DTEND:20240725T180000Z
LOCATION:Chiesa Sant'Anna a Cartaromana (Via Nuova Cartaromana\, 80077 Isch
 ia NA)
SUMMARY:Processione in barca dal piazzale delle Alghe
URL:https://eventi.ischia.it/eventi-passati/evento/31474-processione-in-bar
 ca-dal-piazzale-delle-alghe
END:VEVENT
END:VCALENDAR
