BEGIN:VCALENDAR
VERSION:2.0
PRODID:-//https://eventi.ischia.it///NONSGML kigkonsult.se iCalcreator 2.10.15//
METHOD:PUBLISH
BEGIN:VEVENT
UID:20260420T034315UTC-3028jUgaW5@https://eventi.ischia.it/
DTSTAMP:20260420T034315Z
DESCRIPTION:Laboratorio degli Elfi a cura dell'associazione A Voce d'è Cria
 tur https://eventi.ischia.it/eventi-passati/evento/36883-mare-copp-mas-lab
 oratorio-degli-elfi
DTSTART:20241211T140000Z
DTEND:20241211T170000Z
LOCATION:Centro Polifunzionale di Fontana (Piazza Arturo Trofa - Serrara)
SUMMARY:Mare Copp Mas: Laboratorio degli elfi
URL:https://eventi.ischia.it/eventi-passati/evento/36883-mare-copp-mas-labo
 ratorio-degli-elfi
END:VEVENT
END:VCALENDAR
